BEGIN:VCALENDAR
VERSION:2.0
PRODID:-//ChamberMaster//Event Calendar 2.0//EN
METHOD:PUBLISH
X-PUBLISHED-TTL:P1H
REFRESH-INTERVAL:P1H
CALSCALE:GREGORIAN
BEGIN:VTIMEZONE
TZID:America/New_York
BEGIN:DAYLIGHT
RRULE:FREQ=YEARLY;BYMONTH=3;BYDAY=2SU
DTSTART:20070101T000000
TZOFFSETFROM:-0500
TZOFFSETTO:-0400
TZNAME:Eastern Daylight Time
END:DAYLIGHT
BEGIN:STANDARD
RRULE:FREQ=YEARLY;BYMONTH=11;BYDAY=1SU
DTSTART:20070101T000000
TZOFFSETFROM:-0400
TZOFFSETTO:-0500
TZNAME:Eastern Standard Time
END:STANDARD
END:VTIMEZONE
BEGIN:VEVENT
DTSTART;TZID=America/New_York:20260602T163000
DTEND;TZID=America/New_York:20260602T170000
X-MICROSOFT-CDO-ALLDAYEVENT:FALSE
SUMMARY:✂️Ribbon Cutting - Hampton Inn - Downtown Roanoke
DESCRIPTION:✂️ Upcoming Ribbon Cutting: Hampton Inn - Downtown Roanoke ✂️We're excited to celebrate a fresh new look in Downtown Roanoke! ✨Join us as we celebrate the refreshed and updated Hampton Inn & Suites Roanoke Downtown. This well-loved downtown staple has given its space a beautiful upgrade\, continuing its commitment to providing a welcoming and comfortable experience for every guest who walks through the doors.It's always special to see existing businesses reinvest in our community\, and this refresh is a great example of the pride and care that keeps Downtown Roanoke thriving. We're proud to support their continued growth and can't wait for you to see the updates for yourself.We hope you'll join us for the ribbon cutting as we celebrate this exciting new chapter!
X-ALT-DESC;FMTTYPE=text/html:<!DOCTYPE html><html><head><title></title></head><body aria-disabled="false"><h1 data-end="152" data-start="101" style='font-weight: normal\; line-height: 1.2\; color: rgb(51\, 51\, 51)\; font-family: sans-serif\, Arial\, Verdana\, "Trebuchet MS"\; font-style: normal\; font-variant-ligatures: normal\; font-variant-caps: normal\; letter-spacing: normal\; orphans: 2\; text-indent: 0px\; text-transform: none\; widows: 2\; word-spacing: 0px\; -webkit-text-stroke-width: 0px\; white-space: normal\; background-color: rgb(255\, 255\, 255)\; text-decoration-thickness: initial\; text-decoration-style: initial\; text-decoration-color: initial\; text-align: center\;'><span style="font-family: tahoma\; font-size: 18px\;">✂️ <strong data-end="149" data-start="104" fr-original-style="" style="font-weight: 700\;">Upcoming Ribbon Cutting: Hampton Inn - Downtown Roanoke</strong> ✂️</span></h1><section data-scroll-anchor="false" data-testid="conversation-turn-7" data-turn="user" data-turn-id="45511a75-e9e7-48a2-8f14-b766652c28c2" dir="auto"><div data-message-author-role="assistant" data-message-id="8f1b5bbe-847d-4a9d-9535-669b588fdbff" data-message-model-slug="gpt-5-3" data-turn-start-message="true" dir="auto" tabindex="0"><p>We&rsquo\;re excited to celebrate a fresh new look in Downtown Roanoke! ✨</p><p>Join us as we celebrate the refreshed and updated Hampton Inn &amp\; Suites Roanoke Downtown. This well-loved downtown staple has given its space a beautiful upgrade\, continuing its commitment to providing a welcoming and comfortable experience for every guest who walks through the doors.</p><p>It&rsquo\;s always special to see existing businesses reinvest in our community\, and this refresh is a great example of the pride and care that keeps Downtown Roanoke thriving. We&rsquo\;re proud to support their continued growth and can&rsquo\;t wait for you to see the updates for yourself.</p><p>We hope you&rsquo\;ll join us for the ribbon cutting as we celebrate this exciting new chapter!</p></div></section></body></html>
LOCATION:27 Church Ave SE Roanoke VA 24011
UID:e.4668.1449862
SEQUENCE:3
DTSTAMP:20260424T074305Z
URL:https://business.roanokechamber.org/community-event-calendar/Details/ribbon-cutting-hampton-inn-downtown-roanoke-1717366?sourceTypeId=Hub
END:VEVENT
END:VCALENDAR
