BEGIN:VCALENDAR
VERSION:2.0
PRODID:-//ChamberMaster//Event Calendar 2.0//EN
METHOD:PUBLISH
X-PUBLISHED-TTL:P1H
REFRESH-INTERVAL:P1H
CALSCALE:GREGORIAN
BEGIN:VTIMEZONE
TZID:America/New_York
BEGIN:DAYLIGHT
RRULE:FREQ=YEARLY;BYMONTH=3;BYDAY=2SU
DTSTART:20070101T000000
TZOFFSETFROM:-0500
TZOFFSETTO:-0400
TZNAME:Eastern Daylight Time
END:DAYLIGHT
BEGIN:STANDARD
RRULE:FREQ=YEARLY;BYMONTH=11;BYDAY=1SU
DTSTART:20070101T000000
TZOFFSETFROM:-0400
TZOFFSETTO:-0500
TZNAME:Eastern Standard Time
END:STANDARD
END:VTIMEZONE
BEGIN:VEVENT
DTSTART;TZID=America/New_York:20260514T113000
DTEND;TZID=America/New_York:20260514T120000
X-MICROSOFT-CDO-ALLDAYEVENT:FALSE
SUMMARY:✂️Ribbon Cutting - Mac Westland Real Estate Group
DESCRIPTION:✂️ Upcoming Ribbon Cutting: Mac Westland Real Estate Group ✂️ We're excited to invite you to celebrate a big milestone with Mac Westland Real Estate Group as they officially open the doors to their new location!Join us for a ribbon cutting as we celebrate this grand opening and the continued growth of a team dedicated to helping individuals and families find the perfect place to call home. This new space represents not only their success\, but also their ongoing commitment to serving our community with care and expertise.Mac Westland Real Estate Group is a veteran-owned brokerage building relationships through helping you buy\, sell\, & invest in real estate!Come out to show your support\, meet the team\, and be part of this exciting new chapter. We're proud to celebrate alongside Mac Westland Real Estate Group and look forward to seeing all they will accomplish in this new space.We hope to see you there as we give them a warm Roanoke Region welcome!
X-ALT-DESC;FMTTYPE=text/html:<!DOCTYPE html><html><head><title></title></head><body aria-disabled="false"><p style="text-align: center\;"><br></p><p style="text-align: center\;"><span style="font-size: 18px\;"><strong fr-original-style="" style="font-weight: 700\;">✂️ Upcoming Ribbon Cutting:&nbsp\;</strong><strong fr-original-style="" style="font-weight: 700\;">Mac Westland Real Estate Group</strong></span><span style="font-size: 18px\;"><strong fr-original-style="" style="font-weight: 700\;">&nbsp\;✂️</strong><strong fr-original-style="" style="font-weight: 700\;">&nbsp\;</strong></span></p><section data-scroll-anchor="false" data-testid="conversation-turn-5" data-turn="user" data-turn-id="80c3fc3f-d4f1-42e4-81c1-e7e5a259f8e1" dir="auto"><div data-message-author-role="assistant" data-message-id="cfde1041-e911-44da-9710-105bddee8b23" data-message-model-slug="gpt-5-3" data-turn-start-message="true" dir="auto" tabindex="0"><p data-end="152" data-start="0">We&rsquo\;re excited to invite you to celebrate a big milestone with Mac Westland Real Estate Group as they officially open the doors to their new location!</p><p data-end="469" data-start="154">Join us for a ribbon cutting as we celebrate this grand opening and the continued growth of a team dedicated to helping individuals and families find the perfect place to call home. This new space represents not only their success\, but also their ongoing commitment to serving our community with care and expertise.</p><p data-end="469" data-start="154">Mac Westland Real Estate Group is a veteran-owned brokerage building relationships through helping you buy\, sell\, &amp\; invest in real estate!</p><p data-end="695" data-start="471">Come out to show your support\, meet the team\, and be part of this exciting new chapter. We&rsquo\;re proud to celebrate alongside Mac Westland Real Estate Group and look forward to seeing all they will accomplish in this new space.</p><p data-end="768" data-is-last-node="" data-is-only-node="" data-start="697">We hope to see you there as we give them a warm Roanoke Region welcome!</p></div></section></body></html>
LOCATION:1636 Apperson Dr Salem VA 24153
UID:e.4668.1448865
SEQUENCE:3
DTSTAMP:20260423T100515Z
URL:https://business.roanokechamber.org/community-event-calendar/Details/ribbon-cutting-mac-westland-real-estate-group-1716171?sourceTypeId=Hub
END:VEVENT
END:VCALENDAR
