BEGIN:VCALENDAR
VERSION:2.0
PRODID:-//ChamberMaster//Event Calendar 2.0//EN
METHOD:PUBLISH
X-PUBLISHED-TTL:P1H
REFRESH-INTERVAL:P1H
CALSCALE:GREGORIAN
BEGIN:VTIMEZONE
TZID:America/New_York
BEGIN:DAYLIGHT
RRULE:FREQ=YEARLY;BYMONTH=3;BYDAY=2SU
DTSTART:20070101T000000
TZOFFSETFROM:-0500
TZOFFSETTO:-0400
TZNAME:Eastern Daylight Time
END:DAYLIGHT
BEGIN:STANDARD
RRULE:FREQ=YEARLY;BYMONTH=11;BYDAY=1SU
DTSTART:20070101T000000
TZOFFSETFROM:-0400
TZOFFSETTO:-0500
TZNAME:Eastern Standard Time
END:STANDARD
END:VTIMEZONE
BEGIN:VEVENT
DTSTART;TZID=America/New_York:20260507T113000
DTEND;TZID=America/New_York:20260507T120000
X-MICROSOFT-CDO-ALLDAYEVENT:FALSE
SUMMARY:✂️Ribbon Cutting - PowerPlay
DESCRIPTION:✂️ Upcoming Ribbon Cutting: PowerPlay ✂️We're excited to celebrate a big milestone for PowerPlay with an upcoming Ribbon Cutting to mark their expansion!Growth like this is always worth celebrating\, and PowerPlay's continued investment in our region is a testament to their success and commitment to the community. Expansions don't just represent business growth\, they create opportunity\, strengthen our local economy\, and add to the energy that makes the Roanoke Region thrive.Join us as we celebrate this exciting next chapter for PowerPlay\, connect with fellow community members\, and show your support for a business that continues to grow right here at home.We'll kick things off with the ribbon cutting\, followed by a little friendly competition. Stick around for a Closest to the Pin challenge\, where the winner will receive a free hour with the golf simulator for their entire office. PowerPlay will also be bringing a couple of their Experience Trailers to the Chamber office\, giving guests a chance to step inside and see firsthand what they have to offer.We look forward to celebrating together! ✂️
X-ALT-DESC;FMTTYPE=text/html:<!DOCTYPE html><html><head><title></title></head><body aria-disabled="false"><h1 data-end="152" data-start="101" style='font-weight: normal\; line-height: 1.2\; color: rgb(51\, 51\, 51)\; font-family: sans-serif\, Arial\, Verdana\, "Trebuchet MS"\; font-style: normal\; font-variant-ligatures: normal\; font-variant-caps: normal\; letter-spacing: normal\; orphans: 2\; text-indent: 0px\; text-transform: none\; widows: 2\; word-spacing: 0px\; -webkit-text-stroke-width: 0px\; white-space: normal\; background-color: rgb(255\, 255\, 255)\; text-decoration-thickness: initial\; text-decoration-style: initial\; text-decoration-color: initial\; text-align: center\;'><span style="font-family: tahoma\; font-size: 18px\;">✂️ <strong data-end="149" data-start="104" fr-original-style="" style="font-weight: 700\;">Upcoming Ribbon Cutting: PowerPlay</strong> ✂️</span></h1><section data-scroll-anchor="false" data-testid="conversation-turn-7" data-turn="user" data-turn-id="45511a75-e9e7-48a2-8f14-b766652c28c2" dir="auto"><div data-message-author-role="assistant" data-message-id="8f1b5bbe-847d-4a9d-9535-669b588fdbff" data-message-model-slug="gpt-5-3" data-turn-start-message="true" dir="auto" tabindex="0"><p data-end="113" data-start="0">We&rsquo\;re excited to celebrate a big milestone for PowerPlay with an upcoming Ribbon Cutting to mark their expansion!</p><p data-end="440" data-start="115">Growth like this is always worth celebrating\, and PowerPlay&rsquo\;s continued investment in our region is a testament to their success and commitment to the community. Expansions don&rsquo\;t just represent business growth\, they create opportunity\, strengthen our local economy\, and add to the energy that makes the Roanoke Region thrive.</p><p data-end="626" data-start="442">Join us as we celebrate this exciting next chapter for PowerPlay\, connect with fellow community members\, and show your support for a business that continues to grow right here at home.</p><p data-end="1031" data-start="628">We&rsquo\;ll kick things off with the ribbon cutting\, followed by a little friendly competition. Stick around for a Closest to the Pin challenge\, where the winner will receive a free hour with the golf simulator for their entire office.&nbsp\;</p><p data-end="1031" data-start="628">PowerPlay will also be bringing a couple of their Experience Trailers to the Chamber office\, giving guests a chance to step inside and see firsthand what they have to offer.</p><p data-end="1076" data-start="1033">We look forward to celebrating together! ✂️</p></div></section></body></html>
LOCATION:1948 Franklin Rd\, SW Suite 200 Roanoke VA 24014
UID:e.4668.1442555
SEQUENCE:3
DTSTAMP:20260419T150733Z
URL:https://business.roanokechamber.org/community-event-calendar/Details/ribbon-cutting-powerplay-1708589?sourceTypeId=Hub
END:VEVENT
END:VCALENDAR
