BEGIN:VCALENDAR
VERSION:2.0
PRODID:-//ChamberMaster//Event Calendar 2.0//EN
METHOD:PUBLISH
X-PUBLISHED-TTL:P1H
REFRESH-INTERVAL:P1H
CALSCALE:GREGORIAN
BEGIN:VTIMEZONE
TZID:America/New_York
BEGIN:DAYLIGHT
RRULE:FREQ=YEARLY;BYMONTH=3;BYDAY=2SU
DTSTART:20070101T000000
TZOFFSETFROM:-0500
TZOFFSETTO:-0400
TZNAME:Eastern Daylight Time
END:DAYLIGHT
BEGIN:STANDARD
RRULE:FREQ=YEARLY;BYMONTH=11;BYDAY=1SU
DTSTART:20070101T000000
TZOFFSETFROM:-0400
TZOFFSETTO:-0500
TZNAME:Eastern Standard Time
END:STANDARD
END:VTIMEZONE
BEGIN:VEVENT
DTSTART;TZID=America/New_York:20260428T180000
DTEND;TZID=America/New_York:20260428T190000
X-MICROSOFT-CDO-ALLDAYEVENT:FALSE
SUMMARY:Grandin Theater Buzz Watch Party Stars On Our Own of Roanoke!
DESCRIPTION:On Our Own of Roanoke Valley's new documentary created by Michael Hemphill of Buzz4good\, funded by the James A. Meador Foundation. It will be aired at the Grandin Theater on April 28th at 6:00 pm. Doors open at 5:30 pm. Free Admission! Please come our and support us! It will also air on PBS on April 29th at 7 pm.
X-ALT-DESC;FMTTYPE=text/html:<!DOCTYPE html><html><head><title></title></head><body aria-disabled="false"><p><strong fr-original-style="" style="font-weight: 700\;"><span style="color: rgb(41\, 105\, 176)\;">On Our Own of Roanoke Valley&rsquo\;s</span></strong> new documentary created by Michael Hemphill of <strong fr-original-style="" style="font-weight: 700\;"><span style="color: rgb(41\, 105\, 176)\;">Buzz4good</span></strong>\, funded by the James A. Meador Foundation. It will be aired at the <strong fr-original-style="" style="font-weight: 700\;"><span style="color: rgb(184\, 49\, 47)\;">Grandin Theater</span></strong> on<span style="color: rgb(184\, 49\, 47)\;"> <strong fr-original-style="" style="font-weight: 700\;">April 28th</strong></span> at <span style="color: rgb(184\, 49\, 47)\;">6:00 pm</span>. Doors open at 5:30 pm. Free Admission! Please come our and support us!&nbsp\;</p><p>It will also air on <strong fr-original-style="" style="font-weight: 700\;"><span style="color: rgb(85\, 57\, 130)\;">PBS on April 29th at 7 pm</span></strong>.</p></body></html>
LOCATION:1310 Grandin Rd SW Roanoke VA 24015
UID:e.4668.1448454
SEQUENCE:3
DTSTAMP:20260423T083747Z
URL:https://business.roanokechamber.org/community-event-calendar/Details/grandin-theater-buzz-watch-party-stars-on-our-own-of-roanoke-1715453?sourceTypeId=Hub
END:VEVENT
END:VCALENDAR
