BEGIN:VCALENDAR
VERSION:2.0
PRODID:-//ChamberMaster//Event Calendar 2.0//EN
METHOD:PUBLISH
X-PUBLISHED-TTL:P1H
REFRESH-INTERVAL:P1H
CALSCALE:GREGORIAN
BEGIN:VTIMEZONE
TZID:America/New_York
BEGIN:DAYLIGHT
RRULE:FREQ=YEARLY;BYMONTH=3;BYDAY=2SU
DTSTART:20070101T000000
TZOFFSETFROM:-0500
TZOFFSETTO:-0400
TZNAME:Eastern Daylight Time
END:DAYLIGHT
BEGIN:STANDARD
RRULE:FREQ=YEARLY;BYMONTH=11;BYDAY=1SU
DTSTART:20070101T000000
TZOFFSETFROM:-0400
TZOFFSETTO:-0500
TZNAME:Eastern Standard Time
END:STANDARD
END:VTIMEZONE
BEGIN:VEVENT
DTSTART;TZID=America/New_York:20260606T120000
DTEND;TZID=America/New_York:20260606T150000
X-MICROSOFT-CDO-ALLDAYEVENT:FALSE
SUMMARY:Star City Center for the Arts Launch Party
DESCRIPTION:Star City Center for the Arts welcomes all creatives in the Roanoke Valley and surrounding areas to explore our facility. Come enjoy free entertainment\, stroll our hallways and enjoy pieces from local artists\, graze at our extraordinary grazing table\, let your littles play in bouncy house\, and explore the individual businesses that currently partner with SCCFA. This is sure to be fun afternoon.
X-ALT-DESC;FMTTYPE=text/html:<!DOCTYPE html><html><head><title></title></head><body aria-disabled="false"><p>Star City Center for the Arts welcomes all creatives in the Roanoke Valley and surrounding areas to explore our facility. Come enjoy free entertainment\, stroll our hallways and enjoy pieces from local artists\, graze at our extraordinary grazing table\, let your littles play in bouncy house\, and explore the individual businesses that currently partner with SCCFA. This is sure to be fun afternoon.</p></body></html>
LOCATION:1005 Industry Ave\, SE Bldg 7A Roanoke VA 24013
UID:e.4668.1445800
SEQUENCE:3
DTSTAMP:20260423T082318Z
URL:https://business.roanokechamber.org/community-event-calendar/Details/star-city-center-for-the-arts-launch-party-1712453?sourceTypeId=Hub
END:VEVENT
END:VCALENDAR
