BEGIN:VCALENDAR
VERSION:2.0
PRODID:-//ChamberMaster//Event Calendar 2.0//EN
METHOD:PUBLISH
X-PUBLISHED-TTL:P1H
REFRESH-INTERVAL:P1H
CALSCALE:GREGORIAN
BEGIN:VTIMEZONE
TZID:America/New_York
BEGIN:DAYLIGHT
RRULE:FREQ=YEARLY;BYMONTH=3;BYDAY=2SU
DTSTART:20070101T000000
TZOFFSETFROM:-0500
TZOFFSETTO:-0400
TZNAME:Eastern Daylight Time
END:DAYLIGHT
BEGIN:STANDARD
RRULE:FREQ=YEARLY;BYMONTH=11;BYDAY=1SU
DTSTART:20070101T000000
TZOFFSETFROM:-0400
TZOFFSETTO:-0500
TZNAME:Eastern Standard Time
END:STANDARD
END:VTIMEZONE
BEGIN:VEVENT
DTSTART;TZID=America/New_York:20260729T163000
DTEND;TZID=America/New_York:20260729T170000
X-MICROSOFT-CDO-ALLDAYEVENT:FALSE
SUMMARY:✂️Ribbon Cutting - Williams DeLoatche
DESCRIPTION:✂️ Upcoming Ribbon Cutting: Williams DeLoatche✂️ We're excited to celebrate a new chapter for a valued member of our business community! ✨Join us as we celebrate Williams DeLoatche\, P.C. and their beautiful new space. This move marks an exciting milestone for their team as they continue to grow and serve the Roanoke Region with professionalism\, expertise\, and care.This celebration is even more special as we partner with the Salem Roanoke County Chamber of Commerce to recognize this exciting moment together. It's a great example of how collaboration across our region strengthens and supports local businesses.It's always inspiring to see businesses invest in their future while deepening their roots in our community. Their new location reflects not only their success\, but their ongoing commitment to providing exceptional service to their clients.We hope you'll join us for the ribbon cutting as we celebrate this exciting milestone and show our support for the Williams DeLoatche team!
X-ALT-DESC;FMTTYPE=text/html:<!DOCTYPE html><html><head><title></title></head><body aria-disabled="false"><p style="text-align: center\;"><br></p><p style="text-align: center\;"><span style="font-size: 18px\;"><strong fr-original-style="" style="font-weight: 700\;">✂️ Upcoming Ribbon Cutting: Williams DeLoatche</strong></span><span style="font-size: 18px\;"><strong fr-original-style="" style="font-weight: 700\;">✂️</strong><strong fr-original-style="" style="font-weight: 700\;">&nbsp\;</strong></span></p><section data-scroll-anchor="false" data-testid="conversation-turn-5" data-turn="user" data-turn-id="80c3fc3f-d4f1-42e4-81c1-e7e5a259f8e1" dir="auto"><div data-message-author-role="assistant" data-message-id="cfde1041-e911-44da-9710-105bddee8b23" data-message-model-slug="gpt-5-3" data-turn-start-message="true" dir="auto" tabindex="0"><p data-end="89" data-start="0">We&rsquo\;re excited to celebrate a new chapter for a valued member of our business community! ✨</p><p data-end="333" data-start="91">Join us as we celebrate Williams DeLoatche\, P.C. and their beautiful new space. This move marks an exciting milestone for their team as they continue to grow and serve the Roanoke Region with professionalism\, expertise\, and care.</p><p data-end="580" data-start="335">This celebration is even more special as we partner with the Salem Roanoke County Chamber of Commerce to recognize this exciting moment together. It&rsquo\;s a great example of how collaboration across our region strengthens and supports local businesses.</p><p data-end="822" data-start="582">It&rsquo\;s always inspiring to see businesses invest in their future while deepening their roots in our community. Their new location reflects not only their success\, but their ongoing commitment to providing exceptional service to their clients.</p><p data-end="963" data-start="824">We hope you&rsquo\;ll join us for the ribbon cutting as we celebrate this exciting milestone and show our support for the Williams DeLoatche team!</p></div></section></body></html>
LOCATION:3042 Brambleton Avenue Roanoke VA 24015
UID:e.4668.1449878
SEQUENCE:3
DTSTAMP:20260424T060913Z
URL:https://business.roanokechamber.org/community-event-calendar/Details/ribbon-cutting-williams-deloatche-1717381?sourceTypeId=Hub
END:VEVENT
END:VCALENDAR
