BEGIN:VCALENDAR
VERSION:2.0
PRODID:-//ChamberMaster//Event Calendar 2.0//EN
METHOD:PUBLISH
X-PUBLISHED-TTL:P1H
REFRESH-INTERVAL:P1H
CALSCALE:GREGORIAN
BEGIN:VTIMEZONE
TZID:America/New_York
BEGIN:DAYLIGHT
RRULE:FREQ=YEARLY;BYMONTH=3;BYDAY=2SU
DTSTART:20070101T000000
TZOFFSETFROM:-0500
TZOFFSETTO:-0400
TZNAME:Eastern Daylight Time
END:DAYLIGHT
BEGIN:STANDARD
RRULE:FREQ=YEARLY;BYMONTH=11;BYDAY=1SU
DTSTART:20070101T000000
TZOFFSETFROM:-0400
TZOFFSETTO:-0500
TZNAME:Eastern Standard Time
END:STANDARD
END:VTIMEZONE
BEGIN:VEVENT
DTSTART;TZID=America/New_York:20260501T114500
DTEND;TZID=America/New_York:20260501T140000
X-MICROSOFT-CDO-ALLDAYEVENT:FALSE
SUMMARY:Suit City Grand Opening & Ribbon Cutting
DESCRIPTION:Suit City is proud to celebrate the grand opening and ribbon cutting of its third Roanoke location on Electric Road. A trusted\, family-owned menswear retailer serving the community for over 25 years\, Suit City specializes in suits\, tuxedos\, and accessories for every occasion.This new location marks the company's first independent storefront\, thoughtfully renovated to deliver an enhanced shopping experience. Join us on May 1 at 11:45 AM to welcome Suit City's continued growth in the Roanoke community.
X-ALT-DESC;FMTTYPE=text/html:<!DOCTYPE html><html><head><title></title></head><body aria-disabled="false"><p><meta charset="utf-8"></p><p data-end="539" data-start="236">Suit City is proud to celebrate the grand opening and ribbon cutting of its third Roanoke location on Electric Road. A trusted\, family-owned menswear retailer serving the community for over 25 years\, Suit City specializes in suits\, tuxedos\, and accessories for every occasion.</p><p data-end="772" data-start="541">This new location marks the company&rsquo\;s first independent storefront\, thoughtfully renovated to deliver an enhanced shopping experience. Join us on May 1 at 11:45 AM to welcome Suit City&rsquo\;s continued growth in the Roanoke community.</p></body></html>
LOCATION:3846 Electric Rd SW Roanoke VA 24018
UID:e.4668.1449907
SEQUENCE:3
DTSTAMP:20260424T061627Z
URL:https://business.roanokechamber.org/community-event-calendar/Details/suit-city-grand-opening-ribbon-cutting-1717444?sourceTypeId=Hub
END:VEVENT
END:VCALENDAR
