BEGIN:VCALENDAR
VERSION:2.0
PRODID:-//ChamberMaster//Event Calendar 2.0//EN
METHOD:PUBLISH
X-PUBLISHED-TTL:P1H
REFRESH-INTERVAL:P1H
CALSCALE:GREGORIAN
BEGIN:VTIMEZONE
TZID:America/New_York
BEGIN:DAYLIGHT
RRULE:FREQ=YEARLY;BYMONTH=3;BYDAY=2SU
DTSTART:20070101T000000
TZOFFSETFROM:-0500
TZOFFSETTO:-0400
TZNAME:Eastern Daylight Time
END:DAYLIGHT
BEGIN:STANDARD
RRULE:FREQ=YEARLY;BYMONTH=11;BYDAY=1SU
DTSTART:20070101T000000
TZOFFSETFROM:-0400
TZOFFSETTO:-0500
TZNAME:Eastern Standard Time
END:STANDARD
END:VTIMEZONE
BEGIN:VEVENT
DTSTART;TZID=America/New_York:20260505T093000
DTEND;TZID=America/New_York:20260505T103000
X-MICROSOFT-CDO-ALLDAYEVENT:FALSE
SUMMARY:Wheeler Digital: SEO+AEO Webinar
DESCRIPTION:A 30-minute live webinar + Q&A with an expert panel The businesses that moved early on SEO didn't just win. They dominated their markets for years. We're at that same moment again. But this time\, it's moving faster. People aren't searching anymore. They're asking AI: "Who should I hire?" "Where should I go?" "What's the best option near me?" And AI doesn't give a list. It gives one answer. If your business isn't that answer\, you're invisible. In this session\, we'll break down: How AI decides who to recommend Why traditional SEO isn't enough anymore What you need to do right now to show up How early movers are already gaining ground This isn't a future trend. It's happening right now. Join us to make sure your business is the one AI chooses.\nWEBINAR INFORMATION: Wheeler Digital:  SEO+AEO  WebinarTuesday\, May 5   9:30   10:30amTime zone: America/New_YorkGoogle Meet joining infoVideo call link: https://meet.google.com/qwz-tnrs-uubOr dial: ‪(US) +1 781-514-9456‬ PIN: ‪775 125 347‬#More phone numbers: https://tel.meet/qwz-tnrs-uub?pin=3818060404673
X-ALT-DESC;FMTTYPE=text/html:<!DOCTYPE html><html><head><title></title></head><body aria-disabled="false"><p>A 30-minute live webinar + Q&amp\;A with an expert panel The businesses that moved early on SEO didn&rsquo\;t just win. They dominated their markets for years. We&rsquo\;re at that same moment again. But this time\, it&rsquo\;s moving faster. People aren&rsquo\;t searching anymore. They&rsquo\;re asking AI: &ldquo\;Who should I hire?&rdquo\; &ldquo\;Where should I go?&rdquo\; &ldquo\;What&rsquo\;s the best option near me?&rdquo\; And AI doesn&rsquo\;t give a list. It gives one answer. If your business isn&rsquo\;t that answer\, you&rsquo\;re invisible. In this session\, we&rsquo\;ll break down: How AI decides who to recommend Why traditional SEO isn&rsquo\;t enough anymore What you need to do right now to show up How early movers are already gaining ground This isn&rsquo\;t a future trend. It&rsquo\;s happening right now. Join us to make sure your business is the one AI chooses.</p><p><br></p><p>WEBINAR INFORMATION:&nbsp\;</p><p>Wheeler Digital: &nbsp\;SEO+AEO &nbsp\;Webinar</p><p>Tuesday\, May 5 &middot\; 9:30 &ndash\; 10:30am</p><p>Time zone: America/New_York</p><p>Google Meet joining info</p><p>Video call link: https://meet.google.com/qwz-tnrs-uub</p><p>Or dial: ‪(US) +1 781-514-9456‬ PIN: ‪775 125 347‬#</p><p>More phone numbers: https://tel.meet/qwz-tnrs-uub?pin=3818060404673</p></body></html>
LOCATION:Roanoke VA 24014
UID:e.4668.1445172
SEQUENCE:3
DTSTAMP:20260421T100106Z
URL:https://business.roanokechamber.org/community-event-calendar/Details/wheeler-digital-seo-aeo-webinar-1711679?sourceTypeId=Hub
END:VEVENT
END:VCALENDAR
